<?xml version="1.0" encoding="UTF-8"?>
<Capabilities xmlns="http://www.opengis.net/wmts/1.0"
xmlns:ows="http://www.opengis.net/ows/1.1"
xmlns:xlink="http://www.w3.org/1999/xlink"
xmlns:xsi="http://www.w3.org/2001/XMLSchema-instance"
xmlns:gml="http://www.opengis.net/gml"
xsi:schemaLocation="http://www.opengis.net/wmts/1.0 http://schemas.opengis.net/wmts/1.0/wmtsGetCapabilities_response.xsd"
version="1.0.0">
<!-- Service Identification --> <ows:ServiceIdentification>
<ows:Title>ortho_Ortho_2016_PaysDeLaLoire_L93_L00L12</ows:Title>
<ows:ServiceType>OGC WMTS</ows:ServiceType>
<ows:ServiceTypeVersion>1.0.0</ows:ServiceTypeVersion>
</ows:ServiceIdentification> <!-- Operations Metadata --> <ows:OperationsMetadata>
<ows:Operation name="GetCapabilities">
<ows:DCP>
<ows:HTTP>
<ows:Get xlink:href="https://ligeo.paysdelaloire.fr/server/rest/services/ortho/Ortho_2016_PaysDeLaLoire_L93_L00L12/MapServer/WMTS/1.0.0/WMTSCapabilities.xml">
<ows:Constraint name="GetEncoding">
<ows:AllowedValues>
<ows:Value>RESTful</ows:Value>
</ows:AllowedValues>
</ows:Constraint>
</ows:Get>
<!-- add KVP binding in 10.1 -->
<ows:Get xlink:href="https://ligeo.paysdelaloire.fr/server/rest/services/ortho/Ortho_2016_PaysDeLaLoire_L93_L00L12/MapServer/WMTS?">
<ows:Constraint name="GetEncoding">
<ows:AllowedValues>
<ows:Value>KVP</ows:Value>
</ows:AllowedValues>
</ows:Constraint>
</ows:Get>
</ows:HTTP>
</ows:DCP>
</ows:Operation>
<ows:Operation name="GetTile">
<ows:DCP>
<ows:HTTP>
<ows:Get xlink:href="https://ligeo.paysdelaloire.fr/server/rest/services/ortho/Ortho_2016_PaysDeLaLoire_L93_L00L12/MapServer/WMTS/tile/1.0.0/">
<ows:Constraint name="GetEncoding">
<ows:AllowedValues>
<ows:Value>RESTful</ows:Value>
</ows:AllowedValues>
</ows:Constraint>
</ows:Get>
<ows:Get xlink:href="https://ligeo.paysdelaloire.fr/server/rest/services/ortho/Ortho_2016_PaysDeLaLoire_L93_L00L12/MapServer/WMTS?">
<ows:Constraint name="GetEncoding">
<ows:AllowedValues>
<ows:Value>KVP</ows:Value>
</ows:AllowedValues>
</ows:Constraint>
</ows:Get>
</ows:HTTP>
</ows:DCP>
</ows:Operation>
</ows:OperationsMetadata> <Contents>
<!--Layer--> <Layer>
<ows:Title>ortho_Ortho_2016_PaysDeLaLoire_L93_L00L12</ows:Title> <ows:Identifier>ortho_Ortho_2016_PaysDeLaLoire_L93_L00L12</ows:Identifier>
<ows:BoundingBox crs="urn:ogc:def:crs:EPSG::2154">
<ows:LowerCorner>-3.559735110962595E7 -2.3641742415426202E7</ows:LowerCorner>
<ows:UpperCorner>3.699735110962595E7 3.628151413556072E7</ows:UpperCorner>
</ows:BoundingBox> <ows:WGS84BoundingBox crs="urn:ogc:def:crs:OGC:2:84">
<ows:LowerCorner>-180.0 -66.26666666666665</ows:LowerCorner>
<ows:UpperCorner>180.0 90.0</ows:UpperCorner>
</ows:WGS84BoundingBox>
<Style isDefault="true">
<ows:Title>Default Style</ows:Title>
<ows:Identifier>default</ows:Identifier>
</Style>
<Format>image/jpgpng</Format>
<TileMatrixSetLink>
<TileMatrixSet>default028mm</TileMatrixSet>
</TileMatrixSetLink>
<ResourceURL format="image/jpgpng" resourceType="tile" template="https://ligeo.paysdelaloire.fr/server/rest/services/ortho/Ortho_2016_PaysDeLaLoire_L93_L00L12/MapServer/WMTS/tile/1.0.0/ortho_Ortho_2016_PaysDeLaLoire_L93_L00L12/{Style}/{TileMatrixSet}/{TileMatrix}/{TileRow}/{TileCol}" />
</Layer> <!--TileMatrixSet-->
<TileMatrixSet>
<ows:Title>TileMatrix using 0.28mm</ows:Title>
<ows:Abstract>The tile matrix set that has scale values calculated based on the dpi defined by OGC specification (dpi assumes 0.28mm as the physical distance of a pixel).</ows:Abstract> <ows:Identifier>default028mm</ows:Identifier>
<ows:SupportedCRS>urn:ogc:def:crs:EPSG::2154</ows:SupportedCRS>
<TileMatrix>
<ows:Identifier>0</ows:Identifier>
<ScaleDenominator>7142857.142856246</ScaleDenominator>
<TopLeftCorner>-3.55975E7 4.89531E7</TopLeftCorner> <TileWidth>512</TileWidth> <TileHeight>512</TileHeight>
<MatrixWidth>71</MatrixWidth> <MatrixHeight>71</MatrixHeight>
</TileMatrix>
<TileMatrix>
<ows:Identifier>1</ows:Identifier>
<ScaleDenominator>3571428.571428123</ScaleDenominator>
<TopLeftCorner>-3.55975E7 4.89531E7</TopLeftCorner> <TileWidth>512</TileWidth> <TileHeight>512</TileHeight>
<MatrixWidth>142</MatrixWidth> <MatrixHeight>142</MatrixHeight>
</TileMatrix>
<TileMatrix>
<ows:Identifier>2</ows:Identifier>
<ScaleDenominator>1785714.2857140615</ScaleDenominator>
<TopLeftCorner>-3.55975E7 4.89531E7</TopLeftCorner> <TileWidth>512</TileWidth> <TileHeight>512</TileHeight>
<MatrixWidth>284</MatrixWidth> <MatrixHeight>284</MatrixHeight>
</TileMatrix>
<TileMatrix>
<ows:Identifier>3</ows:Identifier>
<ScaleDenominator>892857.1428570307</ScaleDenominator>
<TopLeftCorner>-3.55975E7 4.89531E7</TopLeftCorner> <TileWidth>512</TileWidth> <TileHeight>512</TileHeight>
<MatrixWidth>568</MatrixWidth> <MatrixHeight>568</MatrixHeight>
</TileMatrix>
<TileMatrix>
<ows:Identifier>4</ows:Identifier>
<ScaleDenominator>357142.8571428122</ScaleDenominator>
<TopLeftCorner>-3.55975E7 4.89531E7</TopLeftCorner> <TileWidth>512</TileWidth> <TileHeight>512</TileHeight>
<MatrixWidth>1418</MatrixWidth> <MatrixHeight>1418</MatrixHeight>
</TileMatrix>
<TileMatrix>
<ows:Identifier>5</ows:Identifier>
<ScaleDenominator>178571.4285714061</ScaleDenominator>
<TopLeftCorner>-3.55975E7 4.89531E7</TopLeftCorner> <TileWidth>512</TileWidth> <TileHeight>512</TileHeight>
<MatrixWidth>2836</MatrixWidth> <MatrixHeight>2836</MatrixHeight>
</TileMatrix>
<TileMatrix>
<ows:Identifier>6</ows:Identifier>
<ScaleDenominator>89285.71428570306</ScaleDenominator>
<TopLeftCorner>-3.55975E7 4.89531E7</TopLeftCorner> <TileWidth>512</TileWidth> <TileHeight>512</TileHeight>
<MatrixWidth>5672</MatrixWidth> <MatrixHeight>5672</MatrixHeight>
</TileMatrix>
<TileMatrix>
<ows:Identifier>7</ows:Identifier>
<ScaleDenominator>35714.09672580801</ScaleDenominator>
<TopLeftCorner>-3.55975E7 4.89531E7</TopLeftCorner> <TileWidth>512</TileWidth> <TileHeight>512</TileHeight>
<MatrixWidth>14179</MatrixWidth> <MatrixHeight>14179</MatrixHeight>
</TileMatrix>
<TileMatrix>
<ows:Identifier>8</ows:Identifier>
<ScaleDenominator>17857.52083408704</ScaleDenominator>
<TopLeftCorner>-3.55975E7 4.89531E7</TopLeftCorner> <TileWidth>512</TileWidth> <TileHeight>512</TileHeight>
<MatrixWidth>28357</MatrixWidth> <MatrixHeight>28357</MatrixHeight>
</TileMatrix>
<TileMatrix>
<ows:Identifier>9</ows:Identifier>
<ScaleDenominator>8928.76041704352</ScaleDenominator>
<TopLeftCorner>-3.55975E7 4.89531E7</TopLeftCorner> <TileWidth>512</TileWidth> <TileHeight>512</TileHeight>
<MatrixWidth>56714</MatrixWidth> <MatrixHeight>56714</MatrixHeight>
</TileMatrix>
<TileMatrix>
<ows:Identifier>10</ows:Identifier>
<ScaleDenominator>3571.8821437638385</ScaleDenominator>
<TopLeftCorner>-3.55975E7 4.89531E7</TopLeftCorner> <TileWidth>512</TileWidth> <TileHeight>512</TileHeight>
<MatrixWidth>141769</MatrixWidth> <MatrixHeight>141769</MatrixHeight>
</TileMatrix>
<TileMatrix>
<ows:Identifier>11</ows:Identifier>
<ScaleDenominator>1785.9410718819192</ScaleDenominator>
<TopLeftCorner>-3.55975E7 4.89531E7</TopLeftCorner> <TileWidth>512</TileWidth> <TileHeight>512</TileHeight>
<MatrixWidth>283538</MatrixWidth> <MatrixHeight>283538</MatrixHeight>
</TileMatrix>
<TileMatrix>
<ows:Identifier>12</ows:Identifier>
<ScaleDenominator>944.9423660750896</ScaleDenominator>
<TopLeftCorner>-3.55975E7 4.89531E7</TopLeftCorner> <TileWidth>512</TileWidth> <TileHeight>512</TileHeight>
<MatrixWidth>535887</MatrixWidth> <MatrixHeight>535887</MatrixHeight>
</TileMatrix>
</TileMatrixSet>
</Contents>
<ServiceMetadataURL xlink:href="https://ligeo.paysdelaloire.fr/server/rest/services/ortho/Ortho_2016_PaysDeLaLoire_L93_L00L12/MapServer/WMTS/1.0.0/WMTSCapabilities.xml" /> </Capabilities>
